BEGIN:VCALENDAR
VERSION:2.0
PRODID:-//TLIA - ECPv6.15.20//NONSGML v1.0//EN
CALSCALE:GREGORIAN
METHOD:PUBLISH
X-ORIGINAL-URL:https://tlia.org
X-WR-CALDESC:Events for TLIA
REFRESH-INTERVAL;VALUE=DURATION:PT1H
X-Robots-Tag:noindex
X-PUBLISHED-TTL:PT1H
BEGIN:VTIMEZONE
TZID:America/Chicago
BEGIN:DAYLIGHT
TZOFFSETFROM:-0600
TZOFFSETTO:-0500
TZNAME:CDT
DTSTART:20250309T080000
END:DAYLIGHT
BEGIN:STANDARD
TZOFFSETFROM:-0500
TZOFFSETTO:-0600
TZNAME:CST
DTSTART:20251102T070000
END:STANDARD
BEGIN:DAYLIGHT
TZOFFSETFROM:-0600
TZOFFSETTO:-0500
TZNAME:CDT
DTSTART:20260308T080000
END:DAYLIGHT
BEGIN:STANDARD
TZOFFSETFROM:-0500
TZOFFSETTO:-0600
TZNAME:CST
DTSTART:20261101T070000
END:STANDARD
BEGIN:DAYLIGHT
TZOFFSETFROM:-0600
TZOFFSETTO:-0500
TZNAME:CDT
DTSTART:20270314T080000
END:DAYLIGHT
BEGIN:STANDARD
TZOFFSETFROM:-0500
TZOFFSETTO:-0600
TZNAME:CST
DTSTART:20271107T070000
END:STANDARD
BEGIN:DAYLIGHT
TZOFFSETFROM:-0600
TZOFFSETTO:-0500
TZNAME:CDT
DTSTART:20280312T080000
END:DAYLIGHT
BEGIN:STANDARD
TZOFFSETFROM:-0500
TZOFFSETTO:-0600
TZNAME:CST
DTSTART:20281105T070000
END:STANDARD
END:VTIMEZONE
BEGIN:VEVENT
DTSTART;TZID=America/Chicago:20260413T190000
DTEND;TZID=America/Chicago:20260413T200000
DTSTAMP:20260422T172514
CREATED:20241215T183137Z
LAST-MODIFIED:20241228T185334Z
UID:10000233-1776106800-1776110400@tlia.org
SUMMARY:TLIA Board Meeting
DESCRIPTION:
URL:https://tlia.org/event-calendar/tlia-board-meeting/2026-04-13/
LOCATION:Tower Lakes Village Hall\, 400 Illinois Rte 59\, Barrington\, IL\, 60010\, United States
CATEGORIES:TLIA Board Meeting
END:VEVENT
BEGIN:VEVENT
DTSTART;TZID=America/Chicago:20260416T190000
DTEND;TZID=America/Chicago:20260416T190000
DTSTAMP:20260422T172514
CREATED:20260221T153644Z
LAST-MODIFIED:20260223T233809Z
UID:10000354-1776366000-1776366000@tlia.org
SUMMARY:Planting and Maintaining Healthy Trees and Shrubs Presentation
DESCRIPTION:
URL:https://tlia.org/event-calendar/planting-and-maintaining-healthy-trees-and-shrubs-presentation/
LOCATION:Tower Lakes Village Hall\, 400 Illinois Rte 59\, Barrington\, IL\, 60010\, United States
END:VEVENT
BEGIN:VEVENT
DTSTART;TZID=America/Chicago:20260425T180000
DTEND;TZID=America/Chicago:20260425T180000
DTSTAMP:20260422T172514
CREATED:20260118T182932Z
LAST-MODIFIED:20260223T231823Z
UID:10000333-1777140000-1777140000@tlia.org
SUMMARY:Progressive Dinner
DESCRIPTION:
URL:https://tlia.org/event-calendar/progressive-dinner/
END:VEVENT
BEGIN:VEVENT
DTSTART;VALUE=DATE:20260501
DTEND;VALUE=DATE:20260502
DTSTAMP:20260422T172514
CREATED:20260221T155607Z
LAST-MODIFIED:20260221T163114Z
UID:10000358-1777593600-1777679999@tlia.org
SUMMARY:CFC Spring Native Plant Preorder Pick-up & Members Only Sale
DESCRIPTION:
URL:https://tlia.org/event-calendar/cfc-spring-native-plant-pre-order-pick-up-members-only-sale/
END:VEVENT
BEGIN:VEVENT
DTSTART;VALUE=DATE:20260502
DTEND;VALUE=DATE:20260504
DTSTAMP:20260422T172514
CREATED:20260221T161223Z
LAST-MODIFIED:20260223T233022Z
UID:10000359-1777680000-1777852799@tlia.org
SUMMARY:CFC Spring Native Public Plant Sale
DESCRIPTION:
URL:https://tlia.org/event-calendar/cfc-spring-native-plant-sale/
END:VEVENT
BEGIN:VEVENT
DTSTART;TZID=America/Chicago:20260511T190000
DTEND;TZID=America/Chicago:20260511T200000
DTSTAMP:20260422T172514
CREATED:20241215T183137Z
LAST-MODIFIED:20241228T185334Z
UID:10000234-1778526000-1778529600@tlia.org
SUMMARY:TLIA Board Meeting
DESCRIPTION:
URL:https://tlia.org/event-calendar/tlia-board-meeting/2026-05-11/
LOCATION:Tower Lakes Village Hall\, 400 Illinois Rte 59\, Barrington\, IL\, 60010\, United States
CATEGORIES:TLIA Board Meeting
END:VEVENT
BEGIN:VEVENT
DTSTART;TZID=America/Chicago:20260605T150000
DTEND;TZID=America/Chicago:20260605T170000
DTSTAMP:20260422T172514
CREATED:20260422T132602Z
LAST-MODIFIED:20260422T132602Z
UID:10000366-1780671600-1780678800@tlia.org
SUMMARY:Fun Fridays at the Beach: Kick Off to Summer with Bubbles!
DESCRIPTION:
URL:https://tlia.org/event-calendar/fun-fridays-at-the-beach-kick-off-to-summer-with-bubbles/
LOCATION:Beach
END:VEVENT
BEGIN:VEVENT
DTSTART;TZID=America/Chicago:20260608T190000
DTEND;TZID=America/Chicago:20260608T200000
DTSTAMP:20260422T172514
CREATED:20241215T183137Z
LAST-MODIFIED:20241228T185334Z
UID:10000235-1780945200-1780948800@tlia.org
SUMMARY:TLIA Board Meeting
DESCRIPTION:
URL:https://tlia.org/event-calendar/tlia-board-meeting/2026-06-08/
LOCATION:Tower Lakes Village Hall\, 400 Illinois Rte 59\, Barrington\, IL\, 60010\, United States
CATEGORIES:TLIA Board Meeting
END:VEVENT
BEGIN:VEVENT
DTSTART;TZID=America/Chicago:20260612T150000
DTEND;TZID=America/Chicago:20260612T170000
DTSTAMP:20260422T172514
CREATED:20260422T132720Z
LAST-MODIFIED:20260422T132720Z
UID:10000367-1781276400-1781283600@tlia.org
SUMMARY:Fun Fridays at the Beach: Cupcake Decorating
DESCRIPTION:
URL:https://tlia.org/event-calendar/fun-fridays-at-the-beach-cupcake-decorating/
LOCATION:Beach
END:VEVENT
BEGIN:VEVENT
DTSTART;TZID=America/Chicago:20260619T150000
DTEND;TZID=America/Chicago:20260619T170000
DTSTAMP:20260422T172514
CREATED:20260422T132853Z
LAST-MODIFIED:20260422T132853Z
UID:10000368-1781881200-1781888400@tlia.org
SUMMARY:Fun Fridays at the Beach: Water Wars
DESCRIPTION:
URL:https://tlia.org/event-calendar/fun-fridays-at-the-beach-water-wars/
LOCATION:Beach
END:VEVENT
BEGIN:VEVENT
DTSTART;TZID=America/Chicago:20260626T150000
DTEND;TZID=America/Chicago:20260626T170000
DTSTAMP:20260422T172514
CREATED:20260422T132954Z
LAST-MODIFIED:20260422T132954Z
UID:10000369-1782486000-1782493200@tlia.org
SUMMARY:Fun Fridays at the Beach: Candy Salad
DESCRIPTION:
URL:https://tlia.org/event-calendar/fun-fridays-at-the-beach-candy-salad/
LOCATION:Beach
END:VEVENT
BEGIN:VEVENT
DTSTART;VALUE=DATE:20260702
DTEND;VALUE=DATE:20260703
DTSTAMP:20260422T172514
CREATED:20260221T161312Z
LAST-MODIFIED:20260221T161650Z
UID:10000360-1782950400-1783036799@tlia.org
SUMMARY:Fourth of July Adult Social
DESCRIPTION:
URL:https://tlia.org/event-calendar/fourth-of-july-adult-social-time-tbd/
END:VEVENT
BEGIN:VEVENT
DTSTART;VALUE=DATE:20260703
DTEND;VALUE=DATE:20260706
DTSTAMP:20260422T172514
CREATED:20260221T153850Z
LAST-MODIFIED:20260221T153850Z
UID:10000355-1783036800-1783295999@tlia.org
SUMMARY:Fourth of July Activities
DESCRIPTION:
URL:https://tlia.org/event-calendar/fourth-of-july-activities/
END:VEVENT
BEGIN:VEVENT
DTSTART;TZID=America/Chicago:20260710T150000
DTEND;TZID=America/Chicago:20260710T170000
DTSTAMP:20260422T172514
CREATED:20260422T133100Z
LAST-MODIFIED:20260422T133100Z
UID:10000370-1783695600-1783702800@tlia.org
SUMMARY:Fun Fridays at the Beach: Seashell Painting
DESCRIPTION:
URL:https://tlia.org/event-calendar/fun-fridays-at-the-beach-seashell-painting/
LOCATION:Beach
END:VEVENT
BEGIN:VEVENT
DTSTART;TZID=America/Chicago:20260713T190000
DTEND;TZID=America/Chicago:20260713T200000
DTSTAMP:20260422T172514
CREATED:20241215T183137Z
LAST-MODIFIED:20241228T185334Z
UID:10000236-1783969200-1783972800@tlia.org
SUMMARY:TLIA Board Meeting
DESCRIPTION:
URL:https://tlia.org/event-calendar/tlia-board-meeting/2026-07-13/
LOCATION:Tower Lakes Village Hall\, 400 Illinois Rte 59\, Barrington\, IL\, 60010\, United States
CATEGORIES:TLIA Board Meeting
END:VEVENT
BEGIN:VEVENT
DTSTART;TZID=America/Chicago:20260717T150000
DTEND;TZID=America/Chicago:20260717T170000
DTSTAMP:20260422T172514
CREATED:20260422T133158Z
LAST-MODIFIED:20260422T133158Z
UID:10000371-1784300400-1784307600@tlia.org
SUMMARY:Fun Fridays at the Beach: Ice Cream Sundae Bar
DESCRIPTION:
URL:https://tlia.org/event-calendar/fun-fridays-at-the-beach-ice-cream-sundae-bar/
LOCATION:Beach
END:VEVENT
BEGIN:VEVENT
DTSTART;TZID=America/Chicago:20260724T150000
DTEND;TZID=America/Chicago:20260724T170000
DTSTAMP:20260422T172514
CREATED:20260422T133306Z
LAST-MODIFIED:20260422T133306Z
UID:10000372-1784905200-1784912400@tlia.org
SUMMARY:Fun Fridays at the Beach: Let's Race!
DESCRIPTION:
URL:https://tlia.org/event-calendar/fun-fridays-at-the-beach-lets-race/
LOCATION:Beach
END:VEVENT
BEGIN:VEVENT
DTSTART;TZID=America/Chicago:20260731T150000
DTEND;TZID=America/Chicago:20260731T170000
DTSTAMP:20260422T172514
CREATED:20260422T133656Z
LAST-MODIFIED:20260422T133656Z
UID:10000373-1785510000-1785517200@tlia.org
SUMMARY:Fun Fridays at the Beach: Make Your Own "Char-cup-erie" Board
DESCRIPTION:
URL:https://tlia.org/event-calendar/fun-fridays-at-the-beach-make-your-own-char-cup-erie-board/
LOCATION:Beach
END:VEVENT
BEGIN:VEVENT
DTSTART;TZID=America/Chicago:20260810T190000
DTEND;TZID=America/Chicago:20260810T200000
DTSTAMP:20260422T172514
CREATED:20241215T183137Z
LAST-MODIFIED:20241228T185334Z
UID:10000237-1786388400-1786392000@tlia.org
SUMMARY:TLIA Board Meeting
DESCRIPTION:
URL:https://tlia.org/event-calendar/tlia-board-meeting/2026-08-10/
LOCATION:Tower Lakes Village Hall\, 400 Illinois Rte 59\, Barrington\, IL\, 60010\, United States
CATEGORIES:TLIA Board Meeting
END:VEVENT
BEGIN:VEVENT
DTSTART;TZID=America/Chicago:20260914T190000
DTEND;TZID=America/Chicago:20260914T200000
DTSTAMP:20260422T172514
CREATED:20241215T183137Z
LAST-MODIFIED:20241228T185334Z
UID:10000238-1789412400-1789416000@tlia.org
SUMMARY:TLIA Board Meeting
DESCRIPTION:
URL:https://tlia.org/event-calendar/tlia-board-meeting/2026-09-14/
LOCATION:Tower Lakes Village Hall\, 400 Illinois Rte 59\, Barrington\, IL\, 60010\, United States
CATEGORIES:TLIA Board Meeting
END:VEVENT
BEGIN:VEVENT
DTSTART;TZID=America/Chicago:20261012T190000
DTEND;TZID=America/Chicago:20261012T200000
DTSTAMP:20260422T172514
CREATED:20241215T183137Z
LAST-MODIFIED:20241228T185334Z
UID:10000239-1791831600-1791835200@tlia.org
SUMMARY:TLIA Board Meeting
DESCRIPTION:
URL:https://tlia.org/event-calendar/tlia-board-meeting/2026-10-12/
LOCATION:Tower Lakes Village Hall\, 400 Illinois Rte 59\, Barrington\, IL\, 60010\, United States
CATEGORIES:TLIA Board Meeting
END:VEVENT
BEGIN:VEVENT
DTSTART;TZID=America/Chicago:20261109T190000
DTEND;TZID=America/Chicago:20261109T200000
DTSTAMP:20260422T172514
CREATED:20241215T183137Z
LAST-MODIFIED:20241228T185334Z
UID:10000240-1794250800-1794254400@tlia.org
SUMMARY:TLIA Board Meeting
DESCRIPTION:
URL:https://tlia.org/event-calendar/tlia-board-meeting/2026-11-09/
LOCATION:Tower Lakes Village Hall\, 400 Illinois Rte 59\, Barrington\, IL\, 60010\, United States
CATEGORIES:TLIA Board Meeting
END:VEVENT
BEGIN:VEVENT
DTSTART;TZID=America/Chicago:20261214T190000
DTEND;TZID=America/Chicago:20261214T200000
DTSTAMP:20260422T172514
CREATED:20241215T183137Z
LAST-MODIFIED:20241228T185334Z
UID:10000241-1797274800-1797278400@tlia.org
SUMMARY:TLIA Board Meeting
DESCRIPTION:
URL:https://tlia.org/event-calendar/tlia-board-meeting/2026-12-14/
LOCATION:Tower Lakes Village Hall\, 400 Illinois Rte 59\, Barrington\, IL\, 60010\, United States
CATEGORIES:TLIA Board Meeting
END:VEVENT
BEGIN:VEVENT
DTSTART;TZID=America/Chicago:20270111T190000
DTEND;TZID=America/Chicago:20270111T200000
DTSTAMP:20260422T172514
CREATED:20241215T183137Z
LAST-MODIFIED:20241228T185334Z
UID:10000242-1799694000-1799697600@tlia.org
SUMMARY:TLIA Board Meeting
DESCRIPTION:
URL:https://tlia.org/event-calendar/tlia-board-meeting/2027-01-11/
LOCATION:Tower Lakes Village Hall\, 400 Illinois Rte 59\, Barrington\, IL\, 60010\, United States
CATEGORIES:TLIA Board Meeting
END:VEVENT
BEGIN:VEVENT
DTSTART;TZID=America/Chicago:20270208T190000
DTEND;TZID=America/Chicago:20270208T200000
DTSTAMP:20260422T172514
CREATED:20241215T183137Z
LAST-MODIFIED:20241228T185334Z
UID:10000243-1802113200-1802116800@tlia.org
SUMMARY:TLIA Board Meeting
DESCRIPTION:
URL:https://tlia.org/event-calendar/tlia-board-meeting/2027-02-08/
LOCATION:Tower Lakes Village Hall\, 400 Illinois Rte 59\, Barrington\, IL\, 60010\, United States
CATEGORIES:TLIA Board Meeting
END:VEVENT
BEGIN:VEVENT
DTSTART;TZID=America/Chicago:20270308T190000
DTEND;TZID=America/Chicago:20270308T200000
DTSTAMP:20260422T172514
CREATED:20241215T183137Z
LAST-MODIFIED:20241228T185334Z
UID:10000244-1804532400-1804536000@tlia.org
SUMMARY:TLIA Board Meeting
DESCRIPTION:
URL:https://tlia.org/event-calendar/tlia-board-meeting/2027-03-08/
LOCATION:Tower Lakes Village Hall\, 400 Illinois Rte 59\, Barrington\, IL\, 60010\, United States
CATEGORIES:TLIA Board Meeting
END:VEVENT
BEGIN:VEVENT
DTSTART;TZID=America/Chicago:20270412T190000
DTEND;TZID=America/Chicago:20270412T200000
DTSTAMP:20260422T172514
CREATED:20241215T183137Z
LAST-MODIFIED:20241228T185334Z
UID:10000245-1807556400-1807560000@tlia.org
SUMMARY:TLIA Board Meeting
DESCRIPTION:
URL:https://tlia.org/event-calendar/tlia-board-meeting/2027-04-12/
LOCATION:Tower Lakes Village Hall\, 400 Illinois Rte 59\, Barrington\, IL\, 60010\, United States
CATEGORIES:TLIA Board Meeting
END:VEVENT
BEGIN:VEVENT
DTSTART;TZID=America/Chicago:20270510T190000
DTEND;TZID=America/Chicago:20270510T200000
DTSTAMP:20260422T172514
CREATED:20241215T183137Z
LAST-MODIFIED:20241228T185334Z
UID:10000246-1809975600-1809979200@tlia.org
SUMMARY:TLIA Board Meeting
DESCRIPTION:
URL:https://tlia.org/event-calendar/tlia-board-meeting/2027-05-10/
LOCATION:Tower Lakes Village Hall\, 400 Illinois Rte 59\, Barrington\, IL\, 60010\, United States
CATEGORIES:TLIA Board Meeting
END:VEVENT
BEGIN:VEVENT
DTSTART;TZID=America/Chicago:20270614T190000
DTEND;TZID=America/Chicago:20270614T200000
DTSTAMP:20260422T172514
CREATED:20241215T183137Z
LAST-MODIFIED:20241228T185334Z
UID:10000247-1812999600-1813003200@tlia.org
SUMMARY:TLIA Board Meeting
DESCRIPTION:
URL:https://tlia.org/event-calendar/tlia-board-meeting/2027-06-14/
LOCATION:Tower Lakes Village Hall\, 400 Illinois Rte 59\, Barrington\, IL\, 60010\, United States
CATEGORIES:TLIA Board Meeting
END:VEVENT
BEGIN:VEVENT
DTSTART;TZID=America/Chicago:20270712T190000
DTEND;TZID=America/Chicago:20270712T200000
DTSTAMP:20260422T172514
CREATED:20241215T183137Z
LAST-MODIFIED:20241228T185334Z
UID:10000248-1815418800-1815422400@tlia.org
SUMMARY:TLIA Board Meeting
DESCRIPTION:
URL:https://tlia.org/event-calendar/tlia-board-meeting/2027-07-12/
LOCATION:Tower Lakes Village Hall\, 400 Illinois Rte 59\, Barrington\, IL\, 60010\, United States
CATEGORIES:TLIA Board Meeting
END:VEVENT
END:VCALENDAR