BEGIN:VCALENDAR
VERSION:2.0
PRODID:-//TLIA - ECPv6.15.20//NONSGML v1.0//EN
CALSCALE:GREGORIAN
METHOD:PUBLISH
X-ORIGINAL-URL:https://tlia.org
X-WR-CALDESC:Events for TLIA
REFRESH-INTERVAL;VALUE=DURATION:PT1H
X-Robots-Tag:noindex
X-PUBLISHED-TTL:PT1H
BEGIN:VTIMEZONE
TZID:America/Chicago
BEGIN:DAYLIGHT
TZOFFSETFROM:-0600
TZOFFSETTO:-0500
TZNAME:CDT
DTSTART:20240310T080000
END:DAYLIGHT
BEGIN:STANDARD
TZOFFSETFROM:-0500
TZOFFSETTO:-0600
TZNAME:CST
DTSTART:20241103T070000
END:STANDARD
BEGIN:DAYLIGHT
TZOFFSETFROM:-0600
TZOFFSETTO:-0500
TZNAME:CDT
DTSTART:20250309T080000
END:DAYLIGHT
BEGIN:STANDARD
TZOFFSETFROM:-0500
TZOFFSETTO:-0600
TZNAME:CST
DTSTART:20251102T070000
END:STANDARD
BEGIN:DAYLIGHT
TZOFFSETFROM:-0600
TZOFFSETTO:-0500
TZNAME:CDT
DTSTART:20260308T080000
END:DAYLIGHT
BEGIN:STANDARD
TZOFFSETFROM:-0500
TZOFFSETTO:-0600
TZNAME:CST
DTSTART:20261101T070000
END:STANDARD
END:VTIMEZONE
BEGIN:VEVENT
DTSTART;VALUE=DATE:20250802
DTEND;VALUE=DATE:20250803
DTSTAMP:20260425T075953
CREATED:20250617T191551Z
LAST-MODIFIED:20250728T122420Z
UID:10000313-1754092800-1754179199@tlia.org
SUMMARY:Kindergarten Meet-up at Aram Park
DESCRIPTION:
URL:https://tlia.org/event-calendar/kindergarten-meet-up-at-aram-park/
LOCATION:Aram Park\, Tower Lakes\, IL\, 60010\, United States
END:VEVENT
BEGIN:VEVENT
DTSTART;TZID=America/Chicago:20250805T160000
DTEND;TZID=America/Chicago:20250805T170000
DTSTAMP:20260425T075953
CREATED:20250617T184424Z
LAST-MODIFIED:20250617T184424Z
UID:10000309-1754409600-1754413200@tlia.org
SUMMARY:Swim Team Practice
DESCRIPTION:
URL:https://tlia.org/event-calendar/swim-team-practice-8/
END:VEVENT
BEGIN:VEVENT
DTSTART;TZID=America/Chicago:20250808T160000
DTEND;TZID=America/Chicago:20250808T170000
DTSTAMP:20260425T075953
CREATED:20250617T184525Z
LAST-MODIFIED:20250617T184600Z
UID:10000310-1754668800-1754672400@tlia.org
SUMMARY:Swim Team Meet
DESCRIPTION:
URL:https://tlia.org/event-calendar/swim-team-practice-9/
END:VEVENT
BEGIN:VEVENT
DTSTART;TZID=America/Chicago:20250811T190000
DTEND;TZID=America/Chicago:20250811T200000
DTSTAMP:20260425T075953
CREATED:20241215T183137Z
LAST-MODIFIED:20241228T185334Z
UID:10000225-1754938800-1754942400@tlia.org
SUMMARY:TLIA Board Meeting
DESCRIPTION:
URL:https://tlia.org/event-calendar/tlia-board-meeting/2025-08-11/
LOCATION:Tower Lakes Village Hall\, 400 Illinois Rte 59\, Barrington\, IL\, 60010\, United States
CATEGORIES:TLIA Board Meeting
END:VEVENT
BEGIN:VEVENT
DTSTART;VALUE=DATE:20250816
DTEND;VALUE=DATE:20250817
DTSTAMP:20260425T075953
CREATED:20250617T191624Z
LAST-MODIFIED:20250720T140056Z
UID:10000314-1755302400-1755388799@tlia.org
SUMMARY:Back to School Bash
DESCRIPTION:
URL:https://tlia.org/event-calendar/back-to-school-bash-4/
LOCATION:Play Island\, Tower Lakes\, 60010\, United States
END:VEVENT
BEGIN:VEVENT
DTSTART;TZID=America/Chicago:20250823T170000
DTEND;TZID=America/Chicago:20250823T200000
DTSTAMP:20260425T075953
CREATED:20250617T184807Z
LAST-MODIFIED:20250617T184807Z
UID:10000311-1755968400-1755979200@tlia.org
SUMMARY:Ravinia at Barsumian Park (Adults Only)
DESCRIPTION:
URL:https://tlia.org/event-calendar/ravinia-at-barsumian-park-adults-only/
END:VEVENT
END:VCALENDAR