BEGIN:VCALENDAR
VERSION:2.0
PRODID:-//TLIA - ECPv6.15.20//NONSGML v1.0//EN
CALSCALE:GREGORIAN
METHOD:PUBLISH
X-WR-CALNAME:TLIA
X-ORIGINAL-URL:https://tlia.org
X-WR-CALDESC:Events for TLIA
REFRESH-INTERVAL;VALUE=DURATION:PT1H
X-Robots-Tag:noindex
X-PUBLISHED-TTL:PT1H
BEGIN:VTIMEZONE
TZID:America/Chicago
BEGIN:DAYLIGHT
TZOFFSETFROM:-0600
TZOFFSETTO:-0500
TZNAME:CDT
DTSTART:20240310T080000
END:DAYLIGHT
BEGIN:STANDARD
TZOFFSETFROM:-0500
TZOFFSETTO:-0600
TZNAME:CST
DTSTART:20241103T070000
END:STANDARD
BEGIN:DAYLIGHT
TZOFFSETFROM:-0600
TZOFFSETTO:-0500
TZNAME:CDT
DTSTART:20250309T080000
END:DAYLIGHT
BEGIN:STANDARD
TZOFFSETFROM:-0500
TZOFFSETTO:-0600
TZNAME:CST
DTSTART:20251102T070000
END:STANDARD
BEGIN:DAYLIGHT
TZOFFSETFROM:-0600
TZOFFSETTO:-0500
TZNAME:CDT
DTSTART:20260308T080000
END:DAYLIGHT
BEGIN:STANDARD
TZOFFSETFROM:-0500
TZOFFSETTO:-0600
TZNAME:CST
DTSTART:20261101T070000
END:STANDARD
END:VTIMEZONE
BEGIN:VEVENT
DTSTART;TZID=America/Chicago:20251004T080000
DTEND;TZID=America/Chicago:20251004T120000
DTSTAMP:20260423T012539
CREATED:20250829T033737Z
LAST-MODIFIED:20250829T033737Z
UID:10000322-1759564800-1759579200@tlia.org
SUMMARY:Fall Cleanup
DESCRIPTION:Meet at Beach Parking Lot
URL:https://tlia.org/event-calendar/fall-cleanup/
END:VEVENT
BEGIN:VEVENT
DTSTART;VALUE=DATE:20251006
DTEND;VALUE=DATE:20251007
DTSTAMP:20260423T012539
CREATED:20250827T111623Z
LAST-MODIFIED:20250827T112205Z
UID:10000318-1759708800-1759795199@tlia.org
SUMMARY:Cuba Township Brush Pickup Begins
DESCRIPTION:
URL:https://tlia.org/event-calendar/brush-pickup-begins/
END:VEVENT
BEGIN:VEVENT
DTSTART;TZID=America/Chicago:20251013T190000
DTEND;TZID=America/Chicago:20251013T200000
DTSTAMP:20260423T012539
CREATED:20241215T183137Z
LAST-MODIFIED:20241228T185334Z
UID:10000227-1760382000-1760385600@tlia.org
SUMMARY:TLIA Board Meeting
DESCRIPTION:
URL:https://tlia.org/event-calendar/tlia-board-meeting/2025-10-13/
LOCATION:Tower Lakes Village Hall\, 400 Illinois Rte 59\, Barrington\, IL\, 60010\, United States
CATEGORIES:TLIA Board Meeting
END:VEVENT
BEGIN:VEVENT
DTSTART;TZID=America/Chicago:20251019T113000
DTEND;TZID=America/Chicago:20251019T160000
DTSTAMP:20260423T012539
CREATED:20250720T140329Z
LAST-MODIFIED:20250907T155722Z
UID:10000316-1760873400-1760889600@tlia.org
SUMMARY:Bears Tailgate\, Chili Cook-off\, and Kids Pumpkin Competition
DESCRIPTION:
URL:https://tlia.org/event-calendar/bear-down-at-the-chili-cook-off/
LOCATION:Rest Island\, Tower Lakes\, 60010\, United States
END:VEVENT
BEGIN:VEVENT
DTSTART;TZID=America/Chicago:20251031T160000
DTEND;TZID=America/Chicago:20251031T200000
DTSTAMP:20260423T012539
CREATED:20250827T112106Z
LAST-MODIFIED:20250915T193815Z
UID:10000320-1761926400-1761940800@tlia.org
SUMMARY:Halloween Spectacular Trick-or-Treating
DESCRIPTION:
URL:https://tlia.org/event-calendar/halloween-pizza-party/
CATEGORIES:Youth Events
END:VEVENT
BEGIN:VEVENT
DTSTART;TZID=America/Chicago:20251031T163000
DTEND;TZID=America/Chicago:20251031T170000
DTSTAMP:20260423T012539
CREATED:20250915T194044Z
LAST-MODIFIED:20250917T042015Z
UID:10000324-1761928200-1761930000@tlia.org
SUMMARY:Halloween Pizza Palooza Party
DESCRIPTION:
URL:https://tlia.org/event-calendar/halloween-pizza-palooza-party/
LOCATION:The Soccer Field\, Hussissian Park\, Tower Lakes\, IL\, 60010
CATEGORIES:Youth Events
END:VEVENT
END:VCALENDAR